BEGIN:VCALENDAR
VERSION:2.0
BEGIN:VEVENT
SUMMARY:Designated Senior World Cup - Indiv & Team\, Men’s Foil - SNRMF
DTSTART:20260430T000000
DTEND:20260430T040000
CLASS:PUBLIC
DESCRIPTION:Designated Senior World Cup - Indiv & Team\, Men’s Foil\n\nS
 enior Open Men’s Foil (SNRMF)\n\nOfficial tournament information:\nhttps
 ://member.usafencing.org/details/tournaments/10800\n\nStrength ranking:\nh
 ttp://fencingtracker.com/event/16430\n\n--------------------\nThis calenda
 r entry was generated by FencingTracker.com
LOCATION:Istanbul\, Turkey
END:VEVENT
END:VCALENDAR
