BEGIN:VCALENDAR
VERSION:2.0
BEGIN:VEVENT
SUMMARY:Designated Senior World Cup - Indiv & Team\, Women’s Foil - SNRW
 F
DTSTART:20260430T000000
DTEND:20260430T040000
CLASS:PUBLIC
DESCRIPTION:Designated Senior World Cup - Indiv & Team\, Women’s Foil\n\
 nSenior Open Women’s Foil (SNRWF)\n\nOfficial tournament information:\nh
 ttps://member.usafencing.org/details/tournaments/10815\n\nStrength ranking
 :\nhttp://fencingtracker.com/event/16431\n\n--------------------\nThis cal
 endar entry was generated by FencingTracker.com
LOCATION:Istanbul\, Turkey
END:VEVENT
END:VCALENDAR
