BEGIN:VCALENDAR
VERSION:2.0
BEGIN:VEVENT
SUMMARY:Designated Senior Grand Prix - Indiv\, Men’s Saber - SNRMS
DTSTART:20260501T000000
DTEND:20260501T040000
CLASS:PUBLIC
DESCRIPTION:Designated Senior Grand Prix - Indiv\, Men’s Saber\n\nSenior
  Open Men’s Saber (SNRMS)\n\nOfficial tournament information:\nhttps://m
 ember.usafencing.org/details/tournaments/10781\n\nStrength ranking:\nhttp:
 //fencingtracker.com/event/16432\n\n--------------------\nThis calendar en
 try was generated by FencingTracker.com
LOCATION:Incheon\, South Korea
END:VEVENT
END:VCALENDAR
